BEGIN:VCALENDAR
VERSION:2.0
PRODID:-//Glendale Chamber of Commerce - ECPv5.12.2//NONSGML v1.0//EN
CALSCALE:GREGORIAN
METHOD:PUBLISH
X-WR-CALNAME:Glendale Chamber of Commerce
X-ORIGINAL-URL:https://www.glendalechamber.com
X-WR-CALDESC:Events for Glendale Chamber of Commerce
BEGIN:VTIMEZONE
TZID:America/Los_Angeles
BEGIN:DAYLIGHT
TZOFFSETFROM:-0800
TZOFFSETTO:-0700
TZNAME:PDT
DTSTART:20160313T100000
END:DAYLIGHT
BEGIN:STANDARD
TZOFFSETFROM:-0700
TZOFFSETTO:-0800
TZNAME:PST
DTSTART:20161106T090000
END:STANDARD
END:VTIMEZONE
BEGIN:VEVENT
DTSTART;TZID=America/Los_Angeles:20160504T173000
DTEND;TZID=America/Los_Angeles:20160504T203000
DTSTAMP:20260422T024147
CREATED:20160425T160530Z
LAST-MODIFIED:20160425T161003Z
UID:5351-1462383000-1462393800@www.glendalechamber.com
SUMMARY:The Taste of Downtown Glendale
DESCRIPTION:Please click “find out more” for printable flyer link \nTASTE of DOWNTOWN GLENDALE – jlk
URL:https://www.glendalechamber.com/event/the-taste-of-downtown-glendale/
LOCATION:Glendale Chamber of Commerce\, 701 N. Brand Blvd.\, Ste. 120\, Glendale\, CA\, 91203\, United States
CATEGORIES:Chamber Dates
ORGANIZER;CN="Glendale%20Chamber%20of%20Commerce":MAILTO:events@glendalechamber.com
END:VEVENT
END:VCALENDAR