BEGIN:VCALENDAR
VERSION:2.0
PRODID:-//Glendale Chamber of Commerce - ECPv5.12.2//NONSGML v1.0//EN
CALSCALE:GREGORIAN
METHOD:PUBLISH
X-WR-CALNAME:Glendale Chamber of Commerce
X-ORIGINAL-URL:https://www.glendalechamber.com
X-WR-CALDESC:Events for Glendale Chamber of Commerce
BEGIN:VTIMEZONE
TZID:America/Los_Angeles
BEGIN:DAYLIGHT
TZOFFSETFROM:-0800
TZOFFSETTO:-0700
TZNAME:PDT
DTSTART:20130310T100000
END:DAYLIGHT
BEGIN:STANDARD
TZOFFSETFROM:-0700
TZOFFSETTO:-0800
TZNAME:PST
DTSTART:20131103T090000
END:STANDARD
END:VTIMEZONE
BEGIN:VEVENT
DTSTART;TZID=America/Los_Angeles:20130925T080000
DTEND;TZID=America/Los_Angeles:20130925T110000
DTSTAMP:20260421T021122
CREATED:20130826T165008Z
LAST-MODIFIED:20130828T202032Z
UID:3379-1380096000-1380106800@www.glendalechamber.com
SUMMARY:The Pieces of Healthcare Reform. How Do They All Fit Together?
DESCRIPTION:Download Event Flyer\n \nDecision Makers & Employers\,\nYou Are Invited to Join Us for This Important Event\nWednesday\, September 25th\, 2013\n 8:00 AM to 11:00 AM\nGlendale Adventist Medical Center Auditorium\n1509 Wilson Terrace\, Glendale\, CA 91206 \nContinental breakfast served.\nThere is no charge to attend the event. Validated parking.\nSeating is limited. Reservations required by Friday\, September 20th\, 2013. \nI. Why We Need Healthcare Reform\nPresented by The Camden Group – With offices across the country\, The Camden Group is one of the nation’s leading healthcare business advisory firms. The firm provides a broad array of healthcare consulting services such as strategic and business planning; mergers\, acquisitions\, and other transactions; financial advisory; physician-hospital alignment; clinical integration; and developing accountable care organizations. \nII. Employers – What You Need to Know & Do\nPresented by Arthur J. Gallagher & Co. – As one of the world’s leading insurance brokers and risk management service providers\, Arthur J. Gallagher & Co. delivers a full range of retail and wholesale property/casualty\, employee benefits and HR consulting products and services\, as well as claims management\, loss control and investigative services to clients of all sizes across North America and around the world. \nIII. What’s Next? The Medical Community’s Plans\nPanel Discussion with Local Hospitals & Physician Leaders – Representatives from Glendale Adventist Medical Center\, Glendale Memorial Hospital\, Verdugo Hills Hospital/USC and the medical community will inform participants how they are collaborating and what is being done to make Glendale and its local communities healthier. Questions from participants will be welcome. \nEvent Sponsors\n[column col=”1/3″] \n \n[/column] \n[column col=”1/3″] \n \n[/column] \n[column col=”1/3″] \n \n  \n[/column] \n  \nEvent Registration\nAll Fields Required
URL:https://www.glendalechamber.com/event/the-pieces-of-healthcare-reform-how-do-they-all-fit-together/
LOCATION:Glendale Adventist Medical Center Auditorium\, 1509 Wilson Terrace\, Glendale\, CA\, 91206\, United States
CATEGORIES:Chamber Dates,Networking Events
ORGANIZER;CN="Glendale%20Chamber%20of%20Commerce":MAILTO:events@glendalechamber.com
END:VEVENT
END:VCALENDAR