BEGIN:VCALENDAR
VERSION:2.0
PRODID:-//Glendale Chamber of Commerce - ECPv5.12.2//NONSGML v1.0//EN
CALSCALE:GREGORIAN
METHOD:PUBLISH
X-WR-CALNAME:Glendale Chamber of Commerce
X-ORIGINAL-URL:https://www.glendalechamber.com
X-WR-CALDESC:Events for Glendale Chamber of Commerce
BEGIN:VTIMEZONE
TZID:America/Los_Angeles
BEGIN:DAYLIGHT
TZOFFSETFROM:-0800
TZOFFSETTO:-0700
TZNAME:PDT
DTSTART:20170312T100000
END:DAYLIGHT
BEGIN:STANDARD
TZOFFSETFROM:-0700
TZOFFSETTO:-0800
TZNAME:PST
DTSTART:20171105T090000
END:STANDARD
END:VTIMEZONE
BEGIN:VEVENT
DTSTART;TZID=America/Los_Angeles:20170503T160000
DTEND;TZID=America/Los_Angeles:20170503T163000
DTSTAMP:20260421T220408
CREATED:20151021T200536Z
LAST-MODIFIED:20170424T193714Z
UID:5026-1493827200-1493829000@www.glendalechamber.com
SUMMARY:Ribbon Cutting for Royal Pharmacy
DESCRIPTION:
URL:https://www.glendalechamber.com/event/ribbon-cutting-royal-pharmacy/
LOCATION:Royal Pharmacy\, 1101 1/2 Glenoaks Blvd\, Glendale\, CA\, 91202\, United States
CATEGORIES:Chamber Dates
END:VEVENT
END:VCALENDAR