BEGIN:VCALENDAR
VERSION:2.0
PRODID:-//Glendale Chamber of Commerce - ECPv5.12.2//NONSGML v1.0//EN
CALSCALE:GREGORIAN
METHOD:PUBLISH
X-WR-CALNAME:Glendale Chamber of Commerce
X-ORIGINAL-URL:https://www.glendalechamber.com
X-WR-CALDESC:Events for Glendale Chamber of Commerce
BEGIN:VTIMEZONE
TZID:America/Los_Angeles
BEGIN:DAYLIGHT
TZOFFSETFROM:-0800
TZOFFSETTO:-0700
TZNAME:PDT
DTSTART:20170312T100000
END:DAYLIGHT
BEGIN:STANDARD
TZOFFSETFROM:-0700
TZOFFSETTO:-0800
TZNAME:PST
DTSTART:20171105T090000
END:STANDARD
END:VTIMEZONE
BEGIN:VEVENT
DTSTART;TZID=America/Los_Angeles:20170621T160000
DTEND;TZID=America/Los_Angeles:20170621T163000
DTSTAMP:20260422T013221
CREATED:20151216T002659Z
LAST-MODIFIED:20170602T215927Z
UID:5093-1498060800-1498062600@www.glendalechamber.com
SUMMARY:Ribbon Cutting @ Mix & Match Burger
DESCRIPTION:Come an welcome one of Glendale’s newest burger restaurants and a new Glendale Chamber of Commerce’s member.
URL:https://www.glendalechamber.com/event/ribbon-cutting-mix-match-burger/
LOCATION:Mix & Match Burger\, 112 W. California Ave.\, Glendale\, CA\, 91203\, United States
CATEGORIES:Chamber Dates
ORGANIZER;CN="Glendale%20Chamber%20of%20Commerce":MAILTO:events@glendalechamber.com
END:VEVENT
END:VCALENDAR