BEGIN:VCALENDAR
VERSION:2.0
PRODID:-//Glendale Chamber of Commerce - ECPv5.12.2//NONSGML v1.0//EN
CALSCALE:GREGORIAN
METHOD:PUBLISH
X-WR-CALNAME:Glendale Chamber of Commerce
X-ORIGINAL-URL:https://www.glendalechamber.com
X-WR-CALDESC:Events for Glendale Chamber of Commerce
BEGIN:VTIMEZONE
TZID:America/Los_Angeles
BEGIN:DAYLIGHT
TZOFFSETFROM:-0800
TZOFFSETTO:-0700
TZNAME:PDT
DTSTART:20180311T100000
END:DAYLIGHT
BEGIN:STANDARD
TZOFFSETFROM:-0700
TZOFFSETTO:-0800
TZNAME:PST
DTSTART:20181104T090000
END:STANDARD
END:VTIMEZONE
BEGIN:VEVENT
DTSTART;TZID=America/Los_Angeles:20180709T100000
DTEND;TZID=America/Los_Angeles:20180709T113000
DTSTAMP:20260423T052653
CREATED:20180705T213205Z
LAST-MODIFIED:20180705T213205Z
UID:7015-1531130400-1531135800@www.glendalechamber.com
SUMMARY:Ribbon Cutting for State Senator Anthony Portantino's District Office
DESCRIPTION:Ribbon Cutting for Senate District 25 Office \nPlease join Senator Anthony Portantino for the ribbon cutting of his District Office\,\nhighlighting the talented work created at the GCC Professional Development Center  \nKindly RSVP to Andrea Sanchez at 818-240-7870 or asanchez@glendalechamber.com
URL:https://www.glendalechamber.com/event/ribbon-cutting-for-state-senator-anthony-portantinos-district-office/
LOCATION:State Senate District 25 Office\, 116 East Broadway\, Suite 204\, Glendale\, CA\, 91205\, United States
CATEGORIES:Ribbon Cuttings
ORGANIZER;CN="Glendale%20Chamber%20of%20Commerce":MAILTO:events@glendalechamber.com
END:VEVENT
END:VCALENDAR