BEGIN:VCALENDAR
VERSION:2.0
PRODID:-//Glendale Chamber of Commerce - ECPv5.12.2//NONSGML v1.0//EN
CALSCALE:GREGORIAN
METHOD:PUBLISH
X-WR-CALNAME:Glendale Chamber of Commerce
X-ORIGINAL-URL:https://www.glendalechamber.com
X-WR-CALDESC:Events for Glendale Chamber of Commerce
BEGIN:VTIMEZONE
TZID:America/Los_Angeles
BEGIN:DAYLIGHT
TZOFFSETFROM:-0800
TZOFFSETTO:-0700
TZNAME:PDT
DTSTART:20170312T100000
END:DAYLIGHT
BEGIN:STANDARD
TZOFFSETFROM:-0700
TZOFFSETTO:-0800
TZNAME:PST
DTSTART:20171105T090000
END:STANDARD
END:VTIMEZONE
BEGIN:VEVENT
DTSTART;TZID=America/Los_Angeles:20170301T110000
DTEND;TZID=America/Los_Angeles:20170301T120000
DTSTAMP:20260421T065348
CREATED:20131104T211628Z
LAST-MODIFIED:20170213T234908Z
UID:3500-1488366000-1488369600@www.glendalechamber.com
SUMMARY:Ribbon Cutting @ Enrich Financial\, The Credit Repair Specialist
DESCRIPTION:
URL:https://www.glendalechamber.com/event/ribbon-cutting-enrich-financial-the-credit-repair-specialst/
LOCATION:Enrich Financial\, 1700 W. Glenoaks Blvd.\, Unit L\, Glendale\, CA\, 91201\, United States
CATEGORIES:Chamber Dates
END:VEVENT
END:VCALENDAR