BEGIN:VCALENDAR
VERSION:2.0
PRODID:-//Glendale Chamber of Commerce - ECPv5.12.2//NONSGML v1.0//EN
CALSCALE:GREGORIAN
METHOD:PUBLISH
X-WR-CALNAME:Glendale Chamber of Commerce
X-ORIGINAL-URL:https://www.glendalechamber.com
X-WR-CALDESC:Events for Glendale Chamber of Commerce
BEGIN:VTIMEZONE
TZID:America/Los_Angeles
BEGIN:DAYLIGHT
TZOFFSETFROM:-0800
TZOFFSETTO:-0700
TZNAME:PDT
DTSTART:20150308T100000
END:DAYLIGHT
BEGIN:STANDARD
TZOFFSETFROM:-0700
TZOFFSETTO:-0800
TZNAME:PST
DTSTART:20151101T090000
END:STANDARD
END:VTIMEZONE
BEGIN:VEVENT
DTSTART;TZID=America/Los_Angeles:20151204T080000
DTEND;TZID=America/Los_Angeles:20151204T170000
DTSTAMP:20260422T042722
CREATED:20131209T223930Z
LAST-MODIFIED:20151027T225740Z
UID:3626-1449216000-1449248400@www.glendalechamber.com
SUMMARY:Leadership Glendale
DESCRIPTION:Contact the Chamber office for information.
URL:https://www.glendalechamber.com/event/leadership-glendale-3/
CATEGORIES:Chamber Dates
END:VEVENT
END:VCALENDAR