BEGIN:VCALENDAR
VERSION:2.0
PRODID:-//Glendale Chamber of Commerce - ECPv5.12.2//NONSGML v1.0//EN
CALSCALE:GREGORIAN
METHOD:PUBLISH
X-WR-CALNAME:Glendale Chamber of Commerce
X-ORIGINAL-URL:https://www.glendalechamber.com
X-WR-CALDESC:Events for Glendale Chamber of Commerce
BEGIN:VTIMEZONE
TZID:America/Los_Angeles
BEGIN:DAYLIGHT
TZOFFSETFROM:-0800
TZOFFSETTO:-0700
TZNAME:PDT
DTSTART:20190310T100000
END:DAYLIGHT
BEGIN:STANDARD
TZOFFSETFROM:-0700
TZOFFSETTO:-0800
TZNAME:PST
DTSTART:20191103T090000
END:STANDARD
END:VTIMEZONE
BEGIN:VEVENT
DTSTART;TZID=America/Los_Angeles:20191113T180000
DTEND;TZID=America/Los_Angeles:20191113T200000
DTSTAMP:20260422T155148
CREATED:20190719T191118Z
LAST-MODIFIED:20191022T181021Z
UID:7518-1573668000-1573675200@www.glendalechamber.com
SUMMARY:Glendale Chamber of Commerce & Leadership Glendale Pre-Holiday Mix & Mingle
DESCRIPTION:Mix & Mingle 2019 \nThe Glendale Chamber of Commerce and Leadership Glendale invite you to start the holiday season with them on Wednesday\, November 13th at KATSUYA ~ GLENDALE.  \nGlendale Chamber of Commerce members and non-members\, Leadership Glendale alumni and facilitators\, are all welcomed to attend this mix and mingle. This is a prime opportunity to get together with colleagues\, classmates\, friends and community leaders to get caught up on all that is new in our lives.  \nWe hope you will join us for this celebratory networking opportunity\, filled with fun and games\, and to begin the holiday season together! \nBy attending this event you will be supporting The Campbell Center. We will generously give 30% of all ticket sales to The Campbell Center\, empowering adults with developmental disabilities. Join us in supporting this great cause! \nSpace is limited\, register early! Please see the flyer for details.
URL:https://www.glendalechamber.com/event/glendale-chambers-november-2019-after-hours-business-mixer/
CATEGORIES:Networking Events
ORGANIZER;CN="Glendale%20Chamber%20of%20Commerce":MAILTO:events@glendalechamber.com
END:VEVENT
END:VCALENDAR