BEGIN:VCALENDAR
VERSION:2.0
PRODID:-//Glendale Chamber of Commerce - ECPv5.12.2//NONSGML v1.0//EN
CALSCALE:GREGORIAN
METHOD:PUBLISH
X-WR-CALNAME:Glendale Chamber of Commerce
X-ORIGINAL-URL:https://www.glendalechamber.com
X-WR-CALDESC:Events for Glendale Chamber of Commerce
BEGIN:VTIMEZONE
TZID:America/Los_Angeles
BEGIN:DAYLIGHT
TZOFFSETFROM:-0800
TZOFFSETTO:-0700
TZNAME:PDT
DTSTART:20180311T100000
END:DAYLIGHT
BEGIN:STANDARD
TZOFFSETFROM:-0700
TZOFFSETTO:-0800
TZNAME:PST
DTSTART:20181104T090000
END:STANDARD
END:VTIMEZONE
BEGIN:VEVENT
DTSTART;TZID=America/Los_Angeles:20180718T173000
DTEND;TZID=America/Los_Angeles:20180718T193000
DTSTAMP:20260423T070548
CREATED:20180427T200616Z
LAST-MODIFIED:20180710T180545Z
UID:6947-1531935000-1531942200@www.glendalechamber.com
SUMMARY:Glendale Chambers & Glendale Young Professionals July 2018 After-Hours Business Mixer @ Brand Library
DESCRIPTION:Brand Library Art Center Mixer — July 2018 \nLocation: Brand Library\n1601 W. Mountain St.\nGlendale\, CA. 91201 \nMembers: $10\nNon-Members: $20
URL:https://www.glendalechamber.com/event/glendale-chambers-july-2018-after-hours-business-mixer-brand-library/
LOCATION:Brand Library\, 1601 W. Mountain St.\, Glendale\, CA\, 91201\, United States
CATEGORIES:Networking Events
ORGANIZER;CN="Glendale%20Chamber%20of%20Commerce":MAILTO:events@glendalechamber.com
END:VEVENT
END:VCALENDAR