BEGIN:VCALENDAR
VERSION:2.0
PRODID:-//Glendale Chamber of Commerce - ECPv5.12.2//NONSGML v1.0//EN
CALSCALE:GREGORIAN
METHOD:PUBLISH
X-WR-CALNAME:Glendale Chamber of Commerce
X-ORIGINAL-URL:https://www.glendalechamber.com
X-WR-CALDESC:Events for Glendale Chamber of Commerce
BEGIN:VTIMEZONE
TZID:America/Los_Angeles
BEGIN:DAYLIGHT
TZOFFSETFROM:-0800
TZOFFSETTO:-0700
TZNAME:PDT
DTSTART:20210314T100000
END:DAYLIGHT
BEGIN:STANDARD
TZOFFSETFROM:-0700
TZOFFSETTO:-0800
TZNAME:PST
DTSTART:20211107T090000
END:STANDARD
END:VTIMEZONE
BEGIN:VEVENT
DTSTART;TZID=America/Los_Angeles:20210120T173000
DTEND;TZID=America/Los_Angeles:20210120T193000
DTSTAMP:20260421T025111
CREATED:20210104T193313Z
LAST-MODIFIED:20210118T190121Z
UID:8081-1611163800-1611171000@www.glendalechamber.com
SUMMARY:Glendale Chambers January 2021 "Virtual" After-Hours Business Mixer
DESCRIPTION:Mixer \nThis virtual meeting will have introductions\, group breakout meetings and prizes. It’s still After-Hours\, so be sure to bring your own drink and snacks!\nMore information Please click the flyer above. We look forward to seeing you (virtually)!
URL:https://www.glendalechamber.com/event/glendale-chambers-january-2021-virtual-after-hours-business-mixer/
LOCATION:Unnamed Venue
CATEGORIES:Networking Events
ORGANIZER;CN="Glendale%20Chamber%20of%20Commerce":MAILTO:events@glendalechamber.com
END:VEVENT
END:VCALENDAR