BEGIN:VCALENDAR
VERSION:2.0
PRODID:-//Glendale Chamber of Commerce - ECPv5.12.2//NONSGML v1.0//EN
CALSCALE:GREGORIAN
METHOD:PUBLISH
X-WR-CALNAME:Glendale Chamber of Commerce
X-ORIGINAL-URL:https://www.glendalechamber.com
X-WR-CALDESC:Events for Glendale Chamber of Commerce
BEGIN:VTIMEZONE
TZID:America/Los_Angeles
BEGIN:DAYLIGHT
TZOFFSETFROM:-0800
TZOFFSETTO:-0700
TZNAME:PDT
DTSTART:20190310T100000
END:DAYLIGHT
BEGIN:STANDARD
TZOFFSETFROM:-0700
TZOFFSETTO:-0800
TZNAME:PST
DTSTART:20191103T090000
END:STANDARD
END:VTIMEZONE
BEGIN:VEVENT
DTSTART;TZID=America/Los_Angeles:20191210T180000
DTEND;TZID=America/Los_Angeles:20191210T200000
DTSTAMP:20260422T155827
CREATED:20190719T191226Z
LAST-MODIFIED:20191112T211559Z
UID:7520-1576000800-1576008000@www.glendalechamber.com
SUMMARY:Multi-Chamber\, Year-End\, MEGA MIXER!
DESCRIPTION:Mega-Mixer Dec. 10 \nGlendale Chamber of Commerce\, Crescenta Valley Chamber of Commerce\, Montrose Chamber of Commerce & Sunland-Tujunga Chamber of Commerce \nAdmission: Chamber Members $10.00 / Non-members $15.00\nTuesday\, December 10\, 6-8 p.m.\nHosted by:\nUSC Verdugo Hills Hospital\, 4th Floor\, Community Room\n1812 Verdugo Blvd.\, Glendale 91208
URL:https://www.glendalechamber.com/event/glendale-chambers-december-2019-after-hours-business-mixer/
LOCATION:USC Verdugo Hills Hospital\, 1812 Verdugo Blvd.\, Glendale\, CA\, 91208\, United States
CATEGORIES:Networking Events
ORGANIZER;CN="Glendale%20Chamber%20of%20Commerce":MAILTO:events@glendalechamber.com
END:VEVENT
END:VCALENDAR