BEGIN:VCALENDAR
VERSION:2.0
PRODID:-//Glendale Chamber of Commerce - ECPv5.12.2//NONSGML v1.0//EN
CALSCALE:GREGORIAN
METHOD:PUBLISH
X-WR-CALNAME:Glendale Chamber of Commerce
X-ORIGINAL-URL:https://www.glendalechamber.com
X-WR-CALDESC:Events for Glendale Chamber of Commerce
BEGIN:VTIMEZONE
TZID:America/Los_Angeles
BEGIN:DAYLIGHT
TZOFFSETFROM:-0800
TZOFFSETTO:-0700
TZNAME:PDT
DTSTART:20190310T100000
END:DAYLIGHT
BEGIN:STANDARD
TZOFFSETFROM:-0700
TZOFFSETTO:-0800
TZNAME:PST
DTSTART:20191103T090000
END:STANDARD
END:VTIMEZONE
BEGIN:VEVENT
DTSTART;TZID=America/Los_Angeles:20190628T180000
DTEND;TZID=America/Los_Angeles:20190628T230000
DTSTAMP:20260421T104258
CREATED:20190531T213342Z
LAST-MODIFIED:20190613T154542Z
UID:7375-1561744800-1561762800@www.glendalechamber.com
SUMMARY:Glendale Chamber's 2019 Gala - The Great Gatsby
DESCRIPTION:Great Gatsby Gala Letter \nGreat Gatsby Ticket & Sponsor form \nGreat Gatsby Gala Silent Auction Donation Form
URL:https://www.glendalechamber.com/event/glendale-chambers-2019-gala-the-great-gatsby/
LOCATION:Chevy Chase Country Club\, 3067 E. ChevyChase Dr.\, Glendale\, CA\, 91206\, United States
CATEGORIES:Annual Events
ORGANIZER;CN="Glendale%20Chamber%20of%20Commerce":MAILTO:events@glendalechamber.com
END:VEVENT
END:VCALENDAR