BEGIN:VCALENDAR
VERSION:2.0
PRODID:-//Glendale Chamber of Commerce - ECPv5.12.2//NONSGML v1.0//EN
CALSCALE:GREGORIAN
METHOD:PUBLISH
X-WR-CALNAME:Glendale Chamber of Commerce
X-ORIGINAL-URL:https://www.glendalechamber.com
X-WR-CALDESC:Events for Glendale Chamber of Commerce
BEGIN:VTIMEZONE
TZID:America/Los_Angeles
BEGIN:DAYLIGHT
TZOFFSETFROM:-0800
TZOFFSETTO:-0700
TZNAME:PDT
DTSTART:20210314T100000
END:DAYLIGHT
BEGIN:STANDARD
TZOFFSETFROM:-0700
TZOFFSETTO:-0800
TZNAME:PST
DTSTART:20211107T090000
END:STANDARD
END:VTIMEZONE
BEGIN:VEVENT
DTSTART;TZID=America/Los_Angeles:20210331T113000
DTEND;TZID=America/Los_Angeles:20210331T123000
DTSTAMP:20260421T020517
CREATED:20191230T233307Z
LAST-MODIFIED:20210322T163738Z
UID:7663-1617190200-1617193800@www.glendalechamber.com
SUMMARY:Glendale Chamber Presents "Moving Forward" State of the City 2021 A Virtual Event
DESCRIPTION:Glendale Chamber Presents “Moving Forward” State of the City 2021 A Virtual Event \nWednesday\, March 31\, 2021 \nFeaturing: Mayor Vrej Agajanian with the 2021 State of the City Address \nClick here for printable form:  Awards SOC Invite-Flyer 2021 – Registration Form – 2 \n \n 
URL:https://www.glendalechamber.com/event/glendale-chamber-virtually-presents-2021-state-of-the-city/
LOCATION:Unnamed Venue
CATEGORIES:Annual Events
ORGANIZER;CN="Glendale%20Chamber%20of%20Commerce":MAILTO:events@glendalechamber.com
END:VEVENT
END:VCALENDAR