BEGIN:VCALENDAR
VERSION:2.0
PRODID:-//Glendale Chamber of Commerce - ECPv5.12.2//NONSGML v1.0//EN
CALSCALE:GREGORIAN
METHOD:PUBLISH
X-WR-CALNAME:Glendale Chamber of Commerce
X-ORIGINAL-URL:https://www.glendalechamber.com
X-WR-CALDESC:Events for Glendale Chamber of Commerce
BEGIN:VTIMEZONE
TZID:America/Los_Angeles
BEGIN:DAYLIGHT
TZOFFSETFROM:-0800
TZOFFSETTO:-0700
TZNAME:PDT
DTSTART:20260308T100000
END:DAYLIGHT
BEGIN:STANDARD
TZOFFSETFROM:-0700
TZOFFSETTO:-0800
TZNAME:PST
DTSTART:20261101T090000
END:STANDARD
END:VTIMEZONE
BEGIN:VEVENT
DTSTART;TZID=America/Los_Angeles:20260402T113000
DTEND;TZID=America/Los_Angeles:20260402T140000
DTSTAMP:20260423T010835
CREATED:20241122T223404Z
LAST-MODIFIED:20260317T221104Z
UID:9114-1775129400-1775138400@www.glendalechamber.com
SUMMARY:Glendale Chamber of Commerce presents 2026 Awards & State of the City Luncheon
DESCRIPTION:Presentation of annual Chamber Awards and the State of the City Address by Glendale Mayor Ara Najarian at the Hilton Glendale \nAwards SOC Invite-Flyer 2026- Registration Form \n  \n 
URL:https://www.glendalechamber.com/event/glendale-chamber-of-commerce-presents-2026-awards-state-of-the-city-luncheon/
LOCATION:Hilton Glendale\, 100 West Glenoaks Boulevard\, Glendale\, 91202\, United States
CATEGORIES:Annual Events
ORGANIZER;CN="Glendale%20Chamber%20of%20Commerce":MAILTO:events@glendalechamber.com
END:VEVENT
END:VCALENDAR