BEGIN:VCALENDAR
VERSION:2.0
PRODID:-//Glendale Chamber of Commerce - ECPv5.12.2//NONSGML v1.0//EN
CALSCALE:GREGORIAN
METHOD:PUBLISH
X-WR-CALNAME:Glendale Chamber of Commerce
X-ORIGINAL-URL:https://www.glendalechamber.com
X-WR-CALDESC:Events for Glendale Chamber of Commerce
BEGIN:VTIMEZONE
TZID:America/Los_Angeles
BEGIN:DAYLIGHT
TZOFFSETFROM:-0800
TZOFFSETTO:-0700
TZNAME:PDT
DTSTART:20170312T100000
END:DAYLIGHT
BEGIN:STANDARD
TZOFFSETFROM:-0700
TZOFFSETTO:-0800
TZNAME:PST
DTSTART:20171105T090000
END:STANDARD
END:VTIMEZONE
BEGIN:VEVENT
DTSTART;TZID=America/Los_Angeles:20171123T000000
DTEND;TZID=America/Los_Angeles:20171124T235900
DTSTAMP:20260423T170222
CREATED:20170927T193259Z
LAST-MODIFIED:20171122T210133Z
UID:6440-1511395200-1511567940@www.glendalechamber.com
SUMMARY:Glendale Chamber of Commerce Office Closed for the Thanksgiving Holiday
DESCRIPTION:The Chamber office will be closed Thursday\, November 23\, 2017  and Friday\, November 24\, 2017 in observance of the Thanksgiving Holiday.
URL:https://www.glendalechamber.com/event/glendale-chamber-of-commerce-office-closed-for-the-thanksgiving-holiday/
LOCATION:Glendale Chamber of Commerce\, 701 N. Brand Blvd.\, Ste. 120\, Glendale\, CA\, 91203\, United States
CATEGORIES:Chamber Dates
ORGANIZER;CN="Glendale%20Chamber%20of%20Commerce":MAILTO:events@glendalechamber.com
END:VEVENT
END:VCALENDAR