BEGIN:VCALENDAR
VERSION:2.0
PRODID:-//Glendale Chamber of Commerce - ECPv5.12.2//NONSGML v1.0//EN
CALSCALE:GREGORIAN
METHOD:PUBLISH
X-WR-CALNAME:Glendale Chamber of Commerce
X-ORIGINAL-URL:https://www.glendalechamber.com
X-WR-CALDESC:Events for Glendale Chamber of Commerce
BEGIN:VTIMEZONE
TZID:America/Los_Angeles
BEGIN:DAYLIGHT
TZOFFSETFROM:-0800
TZOFFSETTO:-0700
TZNAME:PDT
DTSTART:20170312T100000
END:DAYLIGHT
BEGIN:STANDARD
TZOFFSETFROM:-0700
TZOFFSETTO:-0800
TZNAME:PST
DTSTART:20171105T090000
END:STANDARD
END:VTIMEZONE
BEGIN:VEVENT
DTSTART;TZID=America/Los_Angeles:20170713T160000
DTEND;TZID=America/Los_Angeles:20170713T180000
DTSTAMP:20260422T015356
CREATED:20170628T211925Z
LAST-MODIFIED:20170707T170629Z
UID:6261-1499961600-1499968800@www.glendalechamber.com
SUMMARY:Glendale Chamber of Commerce Executive Committee July  2017 Meeting
DESCRIPTION:
URL:https://www.glendalechamber.com/event/glendale-chamber-of-commerce-executive-committee-july-2017-meeting/
LOCATION:Glendale Chamber of Commerce\, 701 N. Brand Blvd.\, Ste. 120\, Glendale\, CA\, 91203\, United States
CATEGORIES:Committee Meetings
ORGANIZER;CN="Glendale%20Chamber%20of%20Commerce":MAILTO:events@glendalechamber.com
END:VEVENT
END:VCALENDAR