BEGIN:VCALENDAR
VERSION:2.0
PRODID:-//Glendale Chamber of Commerce - ECPv5.12.2//NONSGML v1.0//EN
CALSCALE:GREGORIAN
METHOD:PUBLISH
X-WR-CALNAME:Glendale Chamber of Commerce
X-ORIGINAL-URL:https://www.glendalechamber.com
X-WR-CALDESC:Events for Glendale Chamber of Commerce
BEGIN:VTIMEZONE
TZID:America/Los_Angeles
BEGIN:DAYLIGHT
TZOFFSETFROM:-0800
TZOFFSETTO:-0700
TZNAME:PDT
DTSTART:20150308T100000
END:DAYLIGHT
BEGIN:STANDARD
TZOFFSETFROM:-0700
TZOFFSETTO:-0800
TZNAME:PST
DTSTART:20151101T090000
END:STANDARD
END:VTIMEZONE
BEGIN:VEVENT
DTSTART;TZID=America/Los_Angeles:20151015T120000
DTEND;TZID=America/Los_Angeles:20151015T120000
DTSTAMP:20260421T154044
CREATED:20130710T225954Z
LAST-MODIFIED:20150903T165553Z
UID:3193-1444910400-1444910400@www.glendalechamber.com
SUMMARY:Deadline for November 2015 Monthly Mailing
DESCRIPTION:SAVE $400 THROUGH THE GLENDALE CHAMBER MONTHLY MAILING \nYou can save $400 while marketing your business! Advertise in the Chamber’s Monthly Mailing! To be included\, you will need to: \n— CONTACT Andrea at (818) 240-7870 in advance to let us know if you want to participate \n— BRING 1200 fliers printed on 8-1/2″ x 11″ paper\, no heavier than 24# paper\, and if printed on colored paper\, all copies must be the same color. If a glossy paper is used\, please do not use a heavy gloss. \n— BRING payment of $175. This is a savings to you of $400 if you were to send these same members a First Class mailing. Never mind the labor involved! \n— DEADLINE: fliers and payment must be at the Chamber office by 12 noon on Thursday\, October 15\, 2015. \nREMINDER: You must be a member to take advantage of this program. \nThe Chamber looks forward to helping you get your business information relayed to all members. What better way to do it and save money at the same time! \nContact the Chamber now and reserve your spot.
URL:https://www.glendalechamber.com/event/deadline-for-november-2015-monthly-mailing/
LOCATION:Glendale Chamber of Commerce\, 701 N. Brand Blvd.\, Ste. 120\, Glendale\, CA\, 91203\, United States
CATEGORIES:Chamber Dates
ORGANIZER;CN="Glendale%20Chamber%20of%20Commerce":MAILTO:events@glendalechamber.com
END:VEVENT
END:VCALENDAR