BEGIN:VCALENDAR
VERSION:2.0
PRODID:-//Glendale Chamber of Commerce - ECPv5.12.2//NONSGML v1.0//EN
CALSCALE:GREGORIAN
METHOD:PUBLISH
X-WR-CALNAME:Glendale Chamber of Commerce
X-ORIGINAL-URL:https://www.glendalechamber.com
X-WR-CALDESC:Events for Glendale Chamber of Commerce
BEGIN:VTIMEZONE
TZID:America/Los_Angeles
BEGIN:DAYLIGHT
TZOFFSETFROM:-0800
TZOFFSETTO:-0700
TZNAME:PDT
DTSTART:20160313T100000
END:DAYLIGHT
BEGIN:STANDARD
TZOFFSETFROM:-0700
TZOFFSETTO:-0800
TZNAME:PST
DTSTART:20161106T090000
END:STANDARD
END:VTIMEZONE
BEGIN:VEVENT
DTSTART;TZID=America/Los_Angeles:20160715T120000
DTEND;TZID=America/Los_Angeles:20160715T120000
DTSTAMP:20260422T023924
CREATED:20141209T003144Z
LAST-MODIFIED:20160622T220842Z
UID:4393-1468584000-1468584000@www.glendalechamber.com
SUMMARY:Deadline for August 2016 Monthly Mailing
DESCRIPTION:SAVE $400 THROUGH THE GLENDALE CHAMBER MONTHLY MAILING \nYou can save $400 while marketing your business!  Advertise in the Chamber’s Monthly Mailing!  To be included\, you will need to: \n\n CONTACT Andrea at (818) 240-7870 in advance to let us know if you want to participate\nBRING 1200 fliers to the Chamber office.  Fliers must be printed on 8-1/2″ x 11″ paper\, no heavier than 24# paper\, and if printed on colored paper\, all copies must be the same color. If a glossy paper is used\, please do not use a heavy gloss\nBRING payment of $175.  This is a savings to you of $400 if you were to send these same members a First Class mailing.  Never mind the labor involved!\n DEADLINE: fliers and payment must be at the Chamber office by 12 noon on Friday\, July 15\, 2016.\n PARTICIPATE in the Monthly Mailing Program and receive a discount on your next Ad in the Chamber’s News and Upcoming Events Electronic Newsletter.  Contact the Chamber for additional information.\nREMINDER: You must be a member in good standing to take advantage of this program.\n\nThe Chamber looks forward to helping you get your business information relayed to all members.  What better way to do it and save money at the same time! \nContact the Chamber now and reserve your spot.
URL:https://www.glendalechamber.com/event/deadline-for-august-2016-monthly-mailing/
CATEGORIES:Chamber Dates
ORGANIZER;CN="Glendale%20Chamber%20of%20Commerce":MAILTO:events@glendalechamber.com
END:VEVENT
END:VCALENDAR