BEGIN:VCALENDAR
VERSION:2.0
PRODID:-//Glendale Chamber of Commerce - ECPv5.12.2//NONSGML v1.0//EN
CALSCALE:GREGORIAN
METHOD:PUBLISH
X-WR-CALNAME:Glendale Chamber of Commerce
X-ORIGINAL-URL:https://www.glendalechamber.com
X-WR-CALDESC:Events for Glendale Chamber of Commerce
BEGIN:VTIMEZONE
TZID:America/Los_Angeles
BEGIN:DAYLIGHT
TZOFFSETFROM:-0800
TZOFFSETTO:-0700
TZNAME:PDT
DTSTART:20160313T100000
END:DAYLIGHT
BEGIN:STANDARD
TZOFFSETFROM:-0700
TZOFFSETTO:-0800
TZNAME:PST
DTSTART:20161106T090000
END:STANDARD
END:VTIMEZONE
BEGIN:VEVENT
DTSTART;VALUE=DATE:20161124
DTEND;VALUE=DATE:20161125
DTSTAMP:20260422T024147
CREATED:20160822T221340Z
LAST-MODIFIED:20160822T221340Z
UID:5553-1479945600-1480031999@www.glendalechamber.com
SUMMARY:Chamber Office Closed for Thanksgiving Holiday
DESCRIPTION:The Chamber office will be closed Thursday November 24\, 2016 in observance of the Thanksgiving Holiday.
URL:https://www.glendalechamber.com/event/chamber-office-closed-for-thanksgiving-holiday/
LOCATION:Glendale Chamber of Commerce\, 701 N. Brand Blvd.\, Ste. 120\, Glendale\, CA\, 91203\, United States
ORGANIZER;CN="Glendale%20Chamber%20of%20Commerce":MAILTO:events@glendalechamber.com
END:VEVENT
END:VCALENDAR