BEGIN:VCALENDAR
VERSION:2.0
PRODID:-//Glendale Chamber of Commerce - ECPv5.12.2//NONSGML v1.0//EN
CALSCALE:GREGORIAN
METHOD:PUBLISH
X-WR-CALNAME:Glendale Chamber of Commerce
X-ORIGINAL-URL:https://www.glendalechamber.com
X-WR-CALDESC:Events for Glendale Chamber of Commerce
BEGIN:VTIMEZONE
TZID:America/Los_Angeles
BEGIN:DAYLIGHT
TZOFFSETFROM:-0800
TZOFFSETTO:-0700
TZNAME:PDT
DTSTART:20160313T100000
END:DAYLIGHT
BEGIN:STANDARD
TZOFFSETFROM:-0700
TZOFFSETTO:-0800
TZNAME:PST
DTSTART:20161106T090000
END:STANDARD
END:VTIMEZONE
BEGIN:VEVENT
DTSTART;TZID=America/Los_Angeles:20160713T164500
DTEND;TZID=America/Los_Angeles:20160713T180000
DTSTAMP:20260421T233215
CREATED:20141209T000329Z
LAST-MODIFIED:20160708T192404Z
UID:4385-1468428300-1468432800@www.glendalechamber.com
SUMMARY:Ambassador July 2016 Meeting
DESCRIPTION:Please contact the Chamber for information.
URL:https://www.glendalechamber.com/event/ambassador-july-2016-meeting/
CATEGORIES:Committee Meetings
ORGANIZER;CN="Glendale%20Chamber%20of%20Commerce":MAILTO:events@glendalechamber.com
END:VEVENT
END:VCALENDAR