BEGIN:VCALENDAR
VERSION:2.0
PRODID:-//Glendale Chamber of Commerce - ECPv5.12.2//NONSGML v1.0//EN
CALSCALE:GREGORIAN
METHOD:PUBLISH
X-WR-CALNAME:Glendale Chamber of Commerce
X-ORIGINAL-URL:https://www.glendalechamber.com
X-WR-CALDESC:Events for Glendale Chamber of Commerce
BEGIN:VTIMEZONE
TZID:America/Los_Angeles
BEGIN:DAYLIGHT
TZOFFSETFROM:-0800
TZOFFSETTO:-0700
TZNAME:PDT
DTSTART:20160313T100000
END:DAYLIGHT
BEGIN:STANDARD
TZOFFSETFROM:-0700
TZOFFSETTO:-0800
TZNAME:PST
DTSTART:20161106T090000
END:STANDARD
END:VTIMEZONE
BEGIN:VEVENT
DTSTART;TZID=America/Los_Angeles:20161116T173000
DTEND;TZID=America/Los_Angeles:20161116T193000
DTSTAMP:20260421T220621
CREATED:20140811T163654Z
LAST-MODIFIED:20161026T163131Z
UID:4198-1479317400-1479324600@www.glendalechamber.com
SUMMARY:After Hours Business Mixer @ Howard's TV & Appliances
DESCRIPTION:Location: \nHoward’s TV & Appliance\n333 N. Central Ave\nGlendale\, CA. 91203 \nMembers: $10 \nNon-Members: $20
URL:https://www.glendalechamber.com/event/after-hours-business-mixer/
LOCATION:Howard’s TV & Appliances\, 333 N. Central Ave\, Glendale\, CA\, 91203\, United States
CATEGORIES:Networking Events
END:VEVENT
END:VCALENDAR