BEGIN:VCALENDAR
VERSION:2.0
PRODID:-//Glendale Chamber of Commerce - ECPv5.12.2//NONSGML v1.0//EN
CALSCALE:GREGORIAN
METHOD:PUBLISH
X-WR-CALNAME:Glendale Chamber of Commerce
X-ORIGINAL-URL:https://www.glendalechamber.com
X-WR-CALDESC:Events for Glendale Chamber of Commerce
BEGIN:VTIMEZONE
TZID:America/Los_Angeles
BEGIN:DAYLIGHT
TZOFFSETFROM:-0800
TZOFFSETTO:-0700
TZNAME:PDT
DTSTART:20170312T100000
END:DAYLIGHT
BEGIN:STANDARD
TZOFFSETFROM:-0700
TZOFFSETTO:-0800
TZNAME:PST
DTSTART:20171105T090000
END:STANDARD
END:VTIMEZONE
BEGIN:VEVENT
DTSTART;TZID=America/Los_Angeles:20170614T173000
DTEND;TZID=America/Los_Angeles:20170614T193000
DTSTAMP:20260421T215819
CREATED:20161110T195922Z
LAST-MODIFIED:20170522T181854Z
UID:5800-1497461400-1497468600@www.glendalechamber.com
SUMMARY:After Hours Business Mixer @ The Wine Cave
DESCRIPTION:Location: \nThe Wine Cave\n2427 Honolulu Avenue\nMontrose\, CA. 91020 \nMembers: $10\nNon-Members: $20
URL:https://www.glendalechamber.com/event/after-hours-business-mixer-the-wine-cave-2/
CATEGORIES:Networking Events
ORGANIZER;CN="Glendale%20Chamber%20of%20Commerce":MAILTO:events@glendalechamber.com
END:VEVENT
END:VCALENDAR