BEGIN:VCALENDAR
VERSION:2.0
PRODID:-//Glendale Chamber of Commerce - ECPv5.12.2//NONSGML v1.0//EN
CALSCALE:GREGORIAN
METHOD:PUBLISH
X-WR-CALNAME:Glendale Chamber of Commerce
X-ORIGINAL-URL:https://www.glendalechamber.com
X-WR-CALDESC:Events for Glendale Chamber of Commerce
BEGIN:VTIMEZONE
TZID:America/Los_Angeles
BEGIN:DAYLIGHT
TZOFFSETFROM:-0800
TZOFFSETTO:-0700
TZNAME:PDT
DTSTART:20160313T100000
END:DAYLIGHT
BEGIN:STANDARD
TZOFFSETFROM:-0700
TZOFFSETTO:-0800
TZNAME:PST
DTSTART:20161106T090000
END:STANDARD
END:VTIMEZONE
BEGIN:VEVENT
DTSTART;TZID=America/Los_Angeles:20160316T173000
DTEND;TZID=America/Los_Angeles:20160316T193000
DTSTAMP:20260422T053906
CREATED:20151223T205242Z
LAST-MODIFIED:20160128T204841Z
UID:5126-1458149400-1458156600@www.glendalechamber.com
SUMMARY:After Hours Business Mixer @ Los Angeles Federal Credit Union
DESCRIPTION:Location: Los Angeles Federal Credit Union \nMembers: $10 \nNon-Members: $20 \n 
URL:https://www.glendalechamber.com/event/after-hours-business-mixer-los-angeles-federal-credit-union/
LOCATION:Los Angeles Federal Credit Union\, 300 S. Glendale Ave.\, Glendale\, CA\, 91205\, United States
CATEGORIES:Networking Events
ORGANIZER;CN="Glendale%20Chamber%20of%20Commerce":MAILTO:events@glendalechamber.com
END:VEVENT
END:VCALENDAR