BEGIN:VCALENDAR
VERSION:2.0
PRODID:-//Glendale Chamber of Commerce - ECPv5.12.2//NONSGML v1.0//EN
CALSCALE:GREGORIAN
METHOD:PUBLISH
X-WR-CALNAME:Glendale Chamber of Commerce
X-ORIGINAL-URL:https://www.glendalechamber.com
X-WR-CALDESC:Events for Glendale Chamber of Commerce
BEGIN:VTIMEZONE
TZID:America/Los_Angeles
BEGIN:DAYLIGHT
TZOFFSETFROM:-0800
TZOFFSETTO:-0700
TZNAME:PDT
DTSTART:20250309T100000
END:DAYLIGHT
BEGIN:STANDARD
TZOFFSETFROM:-0700
TZOFFSETTO:-0800
TZNAME:PST
DTSTART:20251102T090000
END:STANDARD
END:VTIMEZONE
BEGIN:VEVENT
DTSTART;TZID=America/Los_Angeles:20251015T173000
DTEND;TZID=America/Los_Angeles:20251015T193000
DTSTAMP:20260423T100608
CREATED:20130422T204349Z
LAST-MODIFIED:20251007T195700Z
UID:3020-1760549400-1760556600@www.glendalechamber.com
SUMMARY:After Hours Business Mixer @ Adventist Health Glendale
DESCRIPTION:Location: Adventist Health Glendale \n1509 Wilson Terrace\, Glendale 91206 \nMembers: $10 \nNon-Members: $20 \n  \n 
URL:https://www.glendalechamber.com/event/after-hours-business-mixer-adventist-health-glendale/
LOCATION:Adventist Health Glendale\, 1509 Wilson Terrace\, Glendale\, CA\, 91206\, United States
CATEGORIES:Networking Events
ORGANIZER;CN="Glendale%20Chamber%20of%20Commerce":MAILTO:events@glendalechamber.com
END:VEVENT
END:VCALENDAR