BEGIN:VCALENDAR
VERSION:2.0
PRODID:-//Glendale Chamber of Commerce - ECPv5.12.2//NONSGML v1.0//EN
CALSCALE:GREGORIAN
METHOD:PUBLISH
X-WR-CALNAME:Glendale Chamber of Commerce
X-ORIGINAL-URL:https://www.glendalechamber.com
X-WR-CALDESC:Events for Glendale Chamber of Commerce
BEGIN:VTIMEZONE
TZID:America/Los_Angeles
BEGIN:DAYLIGHT
TZOFFSETFROM:-0800
TZOFFSETTO:-0700
TZNAME:PDT
DTSTART:20160313T100000
END:DAYLIGHT
BEGIN:STANDARD
TZOFFSETFROM:-0700
TZOFFSETTO:-0800
TZNAME:PST
DTSTART:20161106T090000
END:STANDARD
END:VTIMEZONE
BEGIN:VEVENT
DTSTART;TZID=America/Los_Angeles:20161214T173000
DTEND;TZID=America/Los_Angeles:20161214T193000
DTSTAMP:20260421T233742
CREATED:20160822T221734Z
LAST-MODIFIED:20161110T181936Z
UID:5554-1481736600-1481743800@www.glendalechamber.com
SUMMARY:After-Hours Business Mixer & Ribbon Cutting @ 1 Denim
DESCRIPTION:Mixer & Ribbon Cutting at: \n1 Denim\n127 S. Brand Blvd.\nGlendale\, Ca. 91204
URL:https://www.glendalechamber.com/event/after-hours-business-mixer-2/
CATEGORIES:Networking Events
ORGANIZER;CN="Glendale%20Chamber%20of%20Commerce":MAILTO:events@glendalechamber.com
END:VEVENT
END:VCALENDAR