BEGIN:VCALENDAR
VERSION:2.0
PRODID:-//Glendale Chamber of Commerce - ECPv5.12.2//NONSGML v1.0//EN
CALSCALE:GREGORIAN
METHOD:PUBLISH
X-WR-CALNAME:Glendale Chamber of Commerce
X-ORIGINAL-URL:https://www.glendalechamber.com
X-WR-CALDESC:Events for Glendale Chamber of Commerce
BEGIN:VTIMEZONE
TZID:America/Los_Angeles
BEGIN:DAYLIGHT
TZOFFSETFROM:-0800
TZOFFSETTO:-0700
TZNAME:PDT
DTSTART:20200308T100000
END:DAYLIGHT
BEGIN:STANDARD
TZOFFSETFROM:-0700
TZOFFSETTO:-0800
TZNAME:PST
DTSTART:20201101T090000
END:STANDARD
END:VTIMEZONE
BEGIN:VEVENT
DTSTART;TZID=America/Los_Angeles:20200806T100000
DTEND;TZID=America/Los_Angeles:20200806T111500
DTSTAMP:20260421T051014
CREATED:20200729T212102Z
LAST-MODIFIED:20200729T213312Z
UID:7927-1596708000-1596712500@www.glendalechamber.com
SUMMARY:A Virtual COVID-19 Update with Kathryn Barger\, Los Angeles County Supervisor\, 5th District
DESCRIPTION:Join us as County Supervisor\, Kathryn Barger gives us an update on COVID-19\, the economic fallout from the pandemic and protests\, and mental health/homelessness in Los Angeles County. \nRegistration is required. Please use below link to register and you will be provided with your ZOOM link. \nhttps://us02web.zoom.us/meeting/register/tZwoceCurjIpHNIZwdAk3X-2vriyNUeVl5dr \n 
URL:https://www.glendalechamber.com/event/a-virtual-covid-19-update-with-kathryn-barger-los-angeles-county-supervisor-5th-district/
LOCATION:Unnamed Venue
CATEGORIES:Chamber Dates
ORGANIZER;CN="Glendale%20Chamber%20of%20Commerce":MAILTO:events@glendalechamber.com
END:VEVENT
END:VCALENDAR